BEGIN:VCALENDAR
VERSION:2.0
PRODID:-//Fiscalía General de la Nación - ECPv6.8.2//NONSGML v1.0//EN
CALSCALE:GREGORIAN
METHOD:PUBLISH
X-WR-CALNAME:Fiscalía General de la Nación
X-ORIGINAL-URL:https://www.fiscalia.gov.co/colombia
X-WR-CALDESC:Eventos para Fiscalía General de la Nación
REFRESH-INTERVAL;VALUE=DURATION:PT1H
X-Robots-Tag:noindex
X-PUBLISHED-TTL:PT1H
BEGIN:VTIMEZONE
TZID:America/Bogota
BEGIN:STANDARD
TZOFFSETFROM:-0500
TZOFFSETTO:-0500
TZNAME:-05
DTSTART:20180101T000000
END:STANDARD
END:VTIMEZONE
BEGIN:VEVENT
DTSTART;TZID=America/Bogota:20181102T080000
DTEND;TZID=America/Bogota:20181102T170000
DTSTAMP:20260421T140305
CREATED:20181031T200553Z
LAST-MODIFIED:20181031T200553Z
UID:171582-1541145600-1541178000@www.fiscalia.gov.co
SUMMARY:Feria de servicios Quibdo\, Chocó
DESCRIPTION:Feria de servicios Quibdo\, Chocó \n\nTweet
URL:https://www.fiscalia.gov.co/colombia/evento/feria-de-servicios-quibdo-choco/
END:VEVENT
BEGIN:VEVENT
DTSTART;TZID=America/Bogota:20181123T080000
DTEND;TZID=America/Bogota:20181123T150000
DTSTAMP:20260421T140305
CREATED:20181119T200340Z
LAST-MODIFIED:20181119T200340Z
UID:172376-1542960000-1542985200@www.fiscalia.gov.co
SUMMARY:Feria de Servicios - Cúcuta\, Norte de Santander
DESCRIPTION:Tweet
URL:https://www.fiscalia.gov.co/colombia/evento/feria-de-servicios-cucuta-norte-de-santander/
END:VEVENT
BEGIN:VEVENT
DTSTART;TZID=America/Bogota:20181130T080000
DTEND;TZID=America/Bogota:20181130T170000
DTSTAMP:20260421T140305
CREATED:20181130T143150Z
LAST-MODIFIED:20181130T143150Z
UID:172941-1543564800-1543597200@www.fiscalia.gov.co
SUMMARY:Foro – Denunciar Salva Vidas
DESCRIPTION:¿Qué está haciendo la Fiscalía General de la Nación para investigar y judicializar la violencia contra las mujeres? \n\nTweet
URL:https://www.fiscalia.gov.co/colombia/evento/foro-denunciar-salva-vidas/
END:VEVENT
END:VCALENDAR