BEGIN:VCALENDAR
VERSION:2.0
PRODID:-//Fiscalía General de la Nación - ECPv6.8.2//NONSGML v1.0//EN
CALSCALE:GREGORIAN
METHOD:PUBLISH
X-ORIGINAL-URL:https://www.fiscalia.gov.co/colombia
X-WR-CALDESC:Eventos para Fiscalía General de la Nación
REFRESH-INTERVAL;VALUE=DURATION:PT1H
X-Robots-Tag:noindex
X-PUBLISHED-TTL:PT1H
BEGIN:VTIMEZONE
TZID:America/Bogota
BEGIN:STANDARD
TZOFFSETFROM:-0500
TZOFFSETTO:-0500
TZNAME:-05
DTSTART:20180101T000000
END:STANDARD
END:VTIMEZONE
BEGIN:VEVENT
DTSTART;TZID=America/Bogota:20181006T080000
DTEND;TZID=America/Bogota:20181006T170000
DTSTAMP:20260421T172935
CREATED:20181012T153934Z
LAST-MODIFIED:20181012T153934Z
UID:170372-1538812800-1538845200@www.fiscalia.gov.co
SUMMARY:Feria de servicios Garzón - Huila
DESCRIPTION:Junto al taller Construyendo País \n\nTweet
URL:https://www.fiscalia.gov.co/colombia/evento/feria-de-servicios-garzon-huila/
END:VEVENT
BEGIN:VEVENT
DTSTART;TZID=America/Bogota:20181012T080000
DTEND;TZID=America/Bogota:20181012T170000
DTSTAMP:20260421T172935
CREATED:20181012T154101Z
LAST-MODIFIED:20181022T213153Z
UID:170374-1539331200-1539363600@www.fiscalia.gov.co
SUMMARY:Feria de servicios Uribia - La Guajira
DESCRIPTION:Junto al taller Construyendo País \n\nTweet
URL:https://www.fiscalia.gov.co/colombia/evento/feria-de-servicios-uribia-la-guajira/
END:VEVENT
BEGIN:VEVENT
DTSTART;TZID=America/Bogota:20181019T080000
DTEND;TZID=America/Bogota:20181019T170000
DTSTAMP:20260421T172935
CREATED:20181012T155219Z
LAST-MODIFIED:20181012T155219Z
UID:170377-1539936000-1539968400@www.fiscalia.gov.co
SUMMARY:Feria de servicios Malambo - Atlántico
DESCRIPTION:Junto a los talleres Construyendo País \n\nTweet
URL:https://www.fiscalia.gov.co/colombia/evento/feria-de-servicios-malambo-atlantico/
END:VEVENT
BEGIN:VEVENT
DTSTART;TZID=America/Bogota:20181023T090000
DTEND;TZID=America/Bogota:20181023T120000
DTSTAMP:20260421T172935
CREATED:20181022T171122Z
LAST-MODIFIED:20181022T182820Z
UID:170832-1540285200-1540296000@www.fiscalia.gov.co
SUMMARY:Jornada anticorrupción Cimitarra (Santander)
DESCRIPTION:Sede de la Fiscalía General de la Nación (Cra. 4 #6-33) \n  \n\nTweet
URL:https://www.fiscalia.gov.co/colombia/evento/jornada-anticorrupcion-cimitarra-santander/
END:VEVENT
BEGIN:VEVENT
DTSTART;VALUE=DATE:20181025
DTEND;VALUE=DATE:20181027
DTSTAMP:20260421T172935
CREATED:20180813T194303Z
LAST-MODIFIED:20180813T194303Z
UID:167083-1540425600-1540598399@www.fiscalia.gov.co
SUMMARY:Curso Recepción de Denuncia
DESCRIPTION:Florencia \n(cubriría putumayo)\n60 Receptores \n4 Instructores\n\n\n\n\nTweet
URL:https://www.fiscalia.gov.co/colombia/evento/curso-recepcion-de-denuncia-3/
END:VEVENT
BEGIN:VEVENT
DTSTART;TZID=America/Bogota:20181025T080000
DTEND;TZID=America/Bogota:20181025T120000
DTSTAMP:20260421T172935
CREATED:20181022T183130Z
LAST-MODIFIED:20181022T183141Z
UID:170841-1540454400-1540468800@www.fiscalia.gov.co
SUMMARY:Jornada anticorrupción Fusagasugá (Cundinamarca)
DESCRIPTION:Centro Académico Deportivo de la Universidad de Cundinamarca\nCra. 17 No. 19-63\, barrio Piedra Grande \n\nTweet
URL:https://www.fiscalia.gov.co/colombia/evento/jornada-anticorrupcion-fusagasuga-cundinamarca/
END:VEVENT
BEGIN:VEVENT
DTSTART;TZID=America/Bogota:20181025T090000
DTEND;TZID=America/Bogota:20181025T130000
DTSTAMP:20260421T172935
CREATED:20181022T183701Z
LAST-MODIFIED:20181022T183712Z
UID:170845-1540458000-1540472400@www.fiscalia.gov.co
SUMMARY:Jornada anticorrupción Contadero (Nariño)
DESCRIPTION:Casa de la Cultura \n\nTweet
URL:https://www.fiscalia.gov.co/colombia/evento/jornada-anticorrupcion-la-dorada-2/
END:VEVENT
BEGIN:VEVENT
DTSTART;TZID=America/Bogota:20181025T090000
DTEND;TZID=America/Bogota:20181025T160000
DTSTAMP:20260421T172935
CREATED:20181022T183526Z
LAST-MODIFIED:20181022T183728Z
UID:170843-1540458000-1540483200@www.fiscalia.gov.co
SUMMARY:Jornada anticorrupción La Dorada (Caldas)
DESCRIPTION:Parque público (Calle 12 entre carreras 4 y 5a – frente al Hospital San Félix) \n\nTweet
URL:https://www.fiscalia.gov.co/colombia/evento/jornada-anticorrupcion-la-dorada/
END:VEVENT
BEGIN:VEVENT
DTSTART;TZID=America/Bogota:20181026T083000
DTEND;TZID=America/Bogota:20181026T133000
DTSTAMP:20260421T172935
CREATED:20181022T184040Z
LAST-MODIFIED:20181022T184120Z
UID:170850-1540542600-1540560600@www.fiscalia.gov.co
SUMMARY:Jornada anticorrupción Chaparral (Tolima)
DESCRIPTION:Auditorio de la Fiscalía General de la Nación (Calle 7 con carrera 7\, esquina) \n\nTweet
URL:https://www.fiscalia.gov.co/colombia/evento/jornada-anticorrupcion-chaparral-tolima/
END:VEVENT
BEGIN:VEVENT
DTSTART;VALUE=DATE:20181027
DTEND;VALUE=DATE:20181029
DTSTAMP:20260421T172935
CREATED:20180813T194155Z
LAST-MODIFIED:20180813T194155Z
UID:167081-1540598400-1540771199@www.fiscalia.gov.co
SUMMARY:Curso Recepción de Denuncia
DESCRIPTION:Bogotá \n(cubriría Cundinamarca y amazonas)\n60 Receptores \n4 Instructores\n\n\n\n\nTweet
URL:https://www.fiscalia.gov.co/colombia/evento/curso-recepcion-de-denuncia-2/
END:VEVENT
END:VCALENDAR