BEGIN:VCALENDAR
VERSION:2.0
PRODID:-//Fiscalía General de la Nación - ECPv6.8.2//NONSGML v1.0//EN
CALSCALE:GREGORIAN
METHOD:PUBLISH
X-WR-CALNAME:Fiscalía General de la Nación
X-ORIGINAL-URL:https://www.fiscalia.gov.co/colombia
X-WR-CALDESC:Eventos para Fiscalía General de la Nación
REFRESH-INTERVAL;VALUE=DURATION:PT1H
X-Robots-Tag:noindex
X-PUBLISHED-TTL:PT1H
BEGIN:VTIMEZONE
TZID:America/Bogota
BEGIN:STANDARD
TZOFFSETFROM:-0500
TZOFFSETTO:-0500
TZNAME:-05
DTSTART:20190101T000000
END:STANDARD
END:VTIMEZONE
BEGIN:VEVENT
DTSTART;TZID=America/Bogota:20190730T080000
DTEND;TZID=America/Bogota:20190731T170000
DTSTAMP:20260420T235718
CREATED:20190722T173007Z
LAST-MODIFIED:20190722T173007Z
UID:181700-1564473600-1564592400@www.fiscalia.gov.co
SUMMARY:Conferencia en prevención de delitos de mayor impacto violencia intrafamiliar\, delitos sexuales\, prevención en drogadicción y otros temas - Piamonte\, bota caucana
DESCRIPTION:Nombre del evento\nConferencia en prevención de delitos de mayor impacto violencia intrafamiliar\, delitos sexuales\, prevención en drogadicción y otros temas\n\n\nCiudad\nPiamonte\, bota caucana\n\n\nFecha \n30-31 de julio\n\n\nLugar \n\n\n\nHora\n8:00 a.m.\n\n\nObjetivo\nHacer prevención en niños\, niñas\, adolescentes jóvenes en toda forma de violencia o delitos de conformidad con la ley 1098 código de infancia y ley 1620 de convivencia escolar.\n\n\nA quién está dirigido\nIntervención a padres\, estudiantes y comunidad en general\n\n\n\n\nTweet
URL:https://www.fiscalia.gov.co/colombia/evento/conferencia-en-prevencion-de-delitos-de-mayor-impacto-violencia-intrafamiliar-delitos-sexuales-prevencion-en-drogadiccion-y-otros-temas-piamonte-bota-caucana/
END:VEVENT
BEGIN:VEVENT
DTSTART;TZID=America/Bogota:20190730T090000
DTEND;TZID=America/Bogota:20190730T120000
DTSTAMP:20260420T235718
CREATED:20190627T145043Z
LAST-MODIFIED:20190627T145043Z
UID:180836-1564477200-1564488000@www.fiscalia.gov.co
SUMMARY:Día Mundial contra la Trata de Personas
DESCRIPTION:Lugar: En las 32 seccionales del país \n\nTweet
URL:https://www.fiscalia.gov.co/colombia/evento/dia-mundial-contra-la-trata-de-personas/
END:VEVENT
END:VCALENDAR