BEGIN:VCALENDAR
VERSION:2.0
PRODID:-//Fiscalía General de la Nación - ECPv6.8.2//NONSGML v1.0//EN
CALSCALE:GREGORIAN
METHOD:PUBLISH
X-ORIGINAL-URL:https://www.fiscalia.gov.co/colombia
X-WR-CALDESC:Eventos para Fiscalía General de la Nación
REFRESH-INTERVAL;VALUE=DURATION:PT1H
X-Robots-Tag:noindex
X-PUBLISHED-TTL:PT1H
BEGIN:VTIMEZONE
TZID:America/Bogota
BEGIN:STANDARD
TZOFFSETFROM:-0500
TZOFFSETTO:-0500
TZNAME:-05
DTSTART:20190101T000000
END:STANDARD
END:VTIMEZONE
BEGIN:VEVENT
DTSTART;TZID=America/Bogota:20190725T080000
DTEND;TZID=America/Bogota:20190725T120000
DTSTAMP:20260421T015131
CREATED:20190722T173227Z
LAST-MODIFIED:20190722T173227Z
UID:181704-1564041600-1564056000@www.fiscalia.gov.co
SUMMARY:Relanzamiento campaña ADenunciar y Centro de Contacto - Ibagué (Tolima)
DESCRIPTION:Nombre del evento\nRelanzamiento campaña ADenunciar y Centro de Contacto\n\n\nCiudad\nIbagué\, Tolima\n\n\nFecha \n25 de julio de 2019\n\n\nLugar \nPlaza de bolívar\n\n\nHora\n8:00 a.m. – 12:00 m.\n\n\nObjetivo\nDar a conocer a la ciudadanía el aplicativo para que por ese medio denuncien los delitos que se encuentran allí señalados. Igualmente se utilice el Centro de Contacto\n\n\nA quién está dirigido\nPúblico en general\n\n\n\n\nTweet
URL:https://www.fiscalia.gov.co/colombia/evento/relanzamiento-campana-adenunciar-y-centro-de-contacto-ibague-tolima/
END:VEVENT
BEGIN:VEVENT
DTSTART;TZID=America/Bogota:20190725T080000
DTEND;TZID=America/Bogota:20190727T170000
DTSTAMP:20260421T015131
CREATED:20190722T172858Z
LAST-MODIFIED:20190722T172858Z
UID:181698-1564041600-1564246800@www.fiscalia.gov.co
SUMMARY:Conferencia en prevención de delitos de mayor impacto violencia intrafamiliar\, delitos sexuales\, prevención en drogadicción y otros temas - Guapi (Cauca)
DESCRIPTION:Nombre del evento\nConferencia en prevención de delitos de mayor impacto violencia intrafamiliar\, delitos sexuales\, prevención en drogadicción y otros temas\n\n\nCiudad\nGuapi\, Cauca\n\n\nFecha \n25-26-27 de julio de 2019\n\n\nLugar \n\n\n\nHora\n8:00 a.m.\n\n\nObjetivo\nHacer prevención en niños\, niñas\, adolescentes jóvenes en toda forma de violencia o delitos de conformidad con la ley 1098 código de infancia y ley 1620 de convivencia escolar.\n\n\nA quién está dirigido\nIntervención a padres\, estudiantes y comunidad en general\n\n\n\n\nTweet
URL:https://www.fiscalia.gov.co/colombia/evento/conferencia-en-prevencion-de-delitos-de-mayor-impacto-violencia-intrafamiliar-delitos-sexuales-prevencion-en-drogadiccion-y-otros-temas-guapi-cauca/
END:VEVENT
END:VCALENDAR