BEGIN:VCALENDAR
VERSION:2.0
PRODID:-//Fiscalía General de la Nación - ECPv6.8.2//NONSGML v1.0//EN
CALSCALE:GREGORIAN
METHOD:PUBLISH
X-ORIGINAL-URL:https://www.fiscalia.gov.co/colombia
X-WR-CALDESC:Eventos para Fiscalía General de la Nación
REFRESH-INTERVAL;VALUE=DURATION:PT1H
X-Robots-Tag:noindex
X-PUBLISHED-TTL:PT1H
BEGIN:VTIMEZONE
TZID:America/Bogota
BEGIN:STANDARD
TZOFFSETFROM:-0500
TZOFFSETTO:-0500
TZNAME:-05
DTSTART:20190101T000000
END:STANDARD
END:VTIMEZONE
BEGIN:VEVENT
DTSTART;TZID=America/Bogota:20190531T080000
DTEND;TZID=America/Bogota:20190531T170000
DTSTAMP:20260421T031520
CREATED:20190529T210950Z
LAST-MODIFIED:20190529T211007Z
UID:179867-1559289600-1559322000@www.fiscalia.gov.co
SUMMARY:Chat virtual: ¿Qué es el Centro de Contacto de la Fiscalía y qué servicios ofrece?
DESCRIPTION:Tweet
URL:https://www.fiscalia.gov.co/colombia/evento/chat-virtual-que-es-el-centro-de-contacto-de-la-fiscalia-y-que-servicios-ofrece/
END:VEVENT
END:VCALENDAR