BEGIN:VCALENDAR
VERSION:2.0
PRODID:-//Fiscalía General de la Nación - ECPv6.8.2//NONSGML v1.0//EN
CALSCALE:GREGORIAN
METHOD:PUBLISH
X-ORIGINAL-URL:https://www.fiscalia.gov.co/colombia
X-WR-CALDESC:Eventos para Fiscalía General de la Nación
REFRESH-INTERVAL;VALUE=DURATION:PT1H
X-Robots-Tag:noindex
X-PUBLISHED-TTL:PT1H
BEGIN:VTIMEZONE
TZID:America/Bogota
BEGIN:STANDARD
TZOFFSETFROM:-0500
TZOFFSETTO:-0500
TZNAME:-05
DTSTART:20190101T000000
END:STANDARD
END:VTIMEZONE
BEGIN:VEVENT
DTSTART;TZID=America/Bogota:20190524T080000
DTEND;TZID=America/Bogota:20190524T150000
DTSTAMP:20260421T044455
CREATED:20190523T162240Z
LAST-MODIFIED:20190523T162240Z
UID:179581-1558684800-1558710000@www.fiscalia.gov.co
SUMMARY:Feria Nacional de Servicio al Ciudadano Valledupar (Cesar)
DESCRIPTION:Servicios ofrecidos por la Fiscalía:  \n\nOrientación\nRecepción de Denuncias\, Peticiones\, Quejas\, Reclamos y Sugerencias\nPresencia del Programa de Prevención Social del delito Futuro Colombia\n\nLugar: Plaza Alfonso López\nHora: 8:00 am a 3:00pm \n\nTweet
URL:https://www.fiscalia.gov.co/colombia/evento/feria-nacional-de-servicio-al-ciudadano-valledupar-cesar/
END:VEVENT
END:VCALENDAR