BEGIN:VCALENDAR
VERSION:2.0
PRODID:-//Fiscalía General de la Nación - ECPv6.8.2//NONSGML v1.0//EN
CALSCALE:GREGORIAN
METHOD:PUBLISH
X-WR-CALNAME:Fiscalía General de la Nación
X-ORIGINAL-URL:https://www.fiscalia.gov.co/colombia
X-WR-CALDESC:Eventos para Fiscalía General de la Nación
REFRESH-INTERVAL;VALUE=DURATION:PT1H
X-Robots-Tag:noindex
X-PUBLISHED-TTL:PT1H
BEGIN:VTIMEZONE
TZID:America/Bogota
BEGIN:STANDARD
TZOFFSETFROM:-0500
TZOFFSETTO:-0500
TZNAME:-05
DTSTART:20180101T000000
END:STANDARD
END:VTIMEZONE
BEGIN:VEVENT
DTSTART;TZID=America/Bogota:20180623T080000
DTEND;TZID=America/Bogota:20180623T150000
DTSTAMP:20260422T004242
CREATED:20180411T154143Z
LAST-MODIFIED:20180411T154143Z
UID:161888-1529740800-1529766000@www.fiscalia.gov.co
SUMMARY:Feria Nacional de Servicio al Ciudadano en Cumaribo (Vichada)
DESCRIPTION:La Fiscalía participará en la Feria Nacional de Servicio al Ciudadano en Cumaribo (Vichada) \n\nTweet
URL:https://www.fiscalia.gov.co/colombia/evento/feria-nacional-de-servicio-al-ciudadano-en-cumaribo-vichada/
END:VEVENT
END:VCALENDAR