BEGIN:VCALENDAR
VERSION:2.0
PRODID:-//Fiscalía General de la Nación - ECPv6.8.2//NONSGML v1.0//EN
CALSCALE:GREGORIAN
METHOD:PUBLISH
X-WR-CALNAME:Fiscalía General de la Nación
X-ORIGINAL-URL:https://www.fiscalia.gov.co/colombia
X-WR-CALDESC:Eventos para Fiscalía General de la Nación
REFRESH-INTERVAL;VALUE=DURATION:PT1H
X-Robots-Tag:noindex
X-PUBLISHED-TTL:PT1H
BEGIN:VTIMEZONE
TZID:America/Bogota
BEGIN:STANDARD
TZOFFSETFROM:-0500
TZOFFSETTO:-0500
TZNAME:-05
DTSTART:20180101T000000
END:STANDARD
END:VTIMEZONE
BEGIN:VEVENT
DTSTART;TZID=America/Bogota:20180317T080000
DTEND;TZID=America/Bogota:20180317T150000
DTSTAMP:20260422T055514
CREATED:20180306T231105Z
LAST-MODIFIED:20180307T205627Z
UID:160436-1521273600-1521298800@www.fiscalia.gov.co
SUMMARY:Feria Nacional de Servicio al Ciudadano
DESCRIPTION:La Fiscalía General de la Nación participará junto con otras entidades en la Feria Nacional del Servicio al Ciudadano\, que se realizará en Manaure (La Guajira) \n\nTweet
URL:https://www.fiscalia.gov.co/colombia/evento/feria-nacional-de-servicio-al-ciudadano/
LOCATION:Manaure\, La Guajira
END:VEVENT
END:VCALENDAR