BEGIN:VCALENDAR
VERSION:2.0
PRODID:-//Fiscalía General de la Nación - ECPv6.8.2//NONSGML v1.0//EN
CALSCALE:GREGORIAN
METHOD:PUBLISH
X-WR-CALNAME:Fiscalía General de la Nación
X-ORIGINAL-URL:https://www.fiscalia.gov.co/colombia
X-WR-CALDESC:Eventos para Fiscalía General de la Nación
REFRESH-INTERVAL;VALUE=DURATION:PT1H
X-Robots-Tag:noindex
X-PUBLISHED-TTL:PT1H
BEGIN:VTIMEZONE
TZID:America/Bogota
BEGIN:STANDARD
TZOFFSETFROM:-0500
TZOFFSETTO:-0500
TZNAME:-05
DTSTART:20180101T000000
END:STANDARD
END:VTIMEZONE
BEGIN:VEVENT
DTSTART;VALUE=DATE:20180308
DTEND;VALUE=DATE:20180309
DTSTAMP:20260422T055438
CREATED:20180307T205124Z
LAST-MODIFIED:20180307T205124Z
UID:160479-1520467200-1520553599@www.fiscalia.gov.co
SUMMARY:Estrategia para impulsar investigación y judicialización de casos de violencia intrafamiliar y violencia sexual
DESCRIPTION:La Estrategia para impulsar investigación y judicialización de casos de violencia intrafamiliar y violencia sexual\, liderada por la vicefiscal llegará a Arauca \n\nTweet
URL:https://www.fiscalia.gov.co/colombia/evento/estrategia-para-impulsar-investigacion-y-judicializacion-de-casos-de-violencia-intrafamiliar-y-violencia-sexual/
LOCATION:Ciudad\, Arauca\, Colombia
END:VEVENT
BEGIN:VEVENT
DTSTART;TZID=America/Bogota:20180308T080000
DTEND;TZID=America/Bogota:20180308T103000
DTSTAMP:20260422T055438
CREATED:20180307T222108Z
LAST-MODIFIED:20180307T222108Z
UID:160518-1520496000-1520505000@www.fiscalia.gov.co
SUMMARY:"Fiscales Unidos por la Transparencia y la Integridad"
DESCRIPTION:Tweet
URL:https://www.fiscalia.gov.co/colombia/evento/fiscales-unidos-por-la-transparencia-y-la-integridad/
LOCATION:Bogotá\, Bogotá\, Colombia
END:VEVENT
BEGIN:VEVENT
DTSTART;TZID=America/Bogota:20180308T183000
DTEND;TZID=America/Bogota:20180308T190000
DTSTAMP:20260422T055438
CREATED:20180307T215910Z
LAST-MODIFIED:20180307T215910Z
UID:160505-1520533800-1520535600@www.fiscalia.gov.co
SUMMARY:Fiscalía para Todos TV
DESCRIPTION:No se pierda el programa por Canal Institucional\, los jueves a las 6:30 pm \n\nTweet
URL:https://www.fiscalia.gov.co/colombia/evento/fiscalia-para-todos-tv/
END:VEVENT
END:VCALENDAR